BEGIN:VCALENDAR
VERSION:2.0
PRODID:-//Renew PV - ECPv6.15.17.1//NONSGML v1.0//EN
CALSCALE:GREGORIAN
METHOD:PUBLISH
X-WR-CALNAME:Renew PV
X-ORIGINAL-URL:https://renewpv.eu
X-WR-CALDESC:Events for Renew PV
REFRESH-INTERVAL;VALUE=DURATION:PT1H
X-Robots-Tag:noindex
X-PUBLISHED-TTL:PT1H
BEGIN:VTIMEZONE
TZID:Europe/Paris
BEGIN:DAYLIGHT
TZOFFSETFROM:+0100
TZOFFSETTO:+0200
TZNAME:CEST
DTSTART:20250330T010000
END:DAYLIGHT
BEGIN:STANDARD
TZOFFSETFROM:+0200
TZOFFSETTO:+0100
TZNAME:CET
DTSTART:20251026T010000
END:STANDARD
BEGIN:DAYLIGHT
TZOFFSETFROM:+0100
TZOFFSETTO:+0200
TZNAME:CEST
DTSTART:20260329T010000
END:DAYLIGHT
BEGIN:STANDARD
TZOFFSETFROM:+0200
TZOFFSETTO:+0100
TZNAME:CET
DTSTART:20261025T010000
END:STANDARD
BEGIN:DAYLIGHT
TZOFFSETFROM:+0100
TZOFFSETTO:+0200
TZNAME:CEST
DTSTART:20270328T010000
END:DAYLIGHT
BEGIN:STANDARD
TZOFFSETFROM:+0200
TZOFFSETTO:+0100
TZNAME:CET
DTSTART:20271031T010000
END:STANDARD
END:VTIMEZONE
BEGIN:VEVENT
DTSTART;TZID=Europe/Paris:20260423T080000
DTEND;TZID=Europe/Paris:20260424T170000
DTSTAMP:20260424T142113
CREATED:20260128T111804Z
LAST-MODIFIED:20260212T081936Z
UID:3433-1776931200-1777050000@renewpv.eu
SUMMARY:Joint WG2+3+4+5 workshop “Interfaces in Emerging Chalcogenide Based Solar Cells”
DESCRIPTION:Following up on last year’s successful workshop (see video)\, we are adding another layer to our solar cell venture to make it even better; one might say we are going tandem! Have you ever wanted to share your research with the public but did not know how to get started? In this dynamic three-day workshop\, we will address how to go from an initial idea or opportunity\, through the development phase to the day of the outreach event itself. The aim of this workshop will be to guide participants through the iterative process of developing didactic material\, under the guidance of the Scienteens Lab\, while working in small teams. The developed material will be presented to the harshest of critics\, a class of high‑school students\, which will conclude the event. The target audience for the didactic material is teenagers and young adults (15-23 years old). This event will be hosted by the Physics and Sustainability Scienteens Lab and the E4L outreach teams of the University of Luxembourg on the 11th – 13th of May 2026. As this is a hands-on course\, in-person participation is mandatory. This event is funded by the ReNew-PV COST network and participation costs will be covered for 10 participants\, who need to be a member of the network. Application of self-funded participants is welcomed. The registration deadline is Monday 23rd of March 2026. The registration page can be found here. After the registration period has ended you will get invitation through the E-COST system\, and acceptance in E-Cost gives the right of participation. Register								\n				\n				\n				\n									Applications are closed. 								\n				\n				\n					\n				\n		\n					\n				\n				\n									AgendaTimeTopicDetails11th May  Monday  9.30Check-in 10.00Welcome address & coffee breakIntroduction by Susanne Siebentritt10.30Introducing the Scienteens Lab conceptPresentation by Dr. Louis Krieger about the Scienteens Lab hands-on approach and philosophy to science communication11.00Introduction SessionGet acquainted and pitch your workshop ideas12.00LunchDiscover culinary choices in Belval 13.00Choosing the project/ideas on paperForm your teams\, start brainstorming\, explore your ideas15.00Ice breaker – the WHAM GAP!Showcase of our new didactic model to foster creative ideas15.30Continue working on own projectFind / create your materials\, develop your ideas further17.00Welcome TourExplore the Science hub of Belval18.00Dinner Schmelz in Belval12th May\, Tuesday  8.30Warm-up workshopExperience one of our workshops09.30Background of workshopUnderstand the principles behind the way we design our workshops10.00Coffee break 10.20Continue working on own projectFind / create your materials\, develop your ideas further12.00LunchDiscover culinary choices in Belval13.00Continue working on own projectWork on your projects and finalize your materials15.00Guest speakerPresentation about outreach approach from an experienced active science communicator from Luxembourg15.45Coffee Break 16.00Continue working on own projectCarry out a first test run 18.00Luxembourg city tour 20.00DinnerUm Dierfgen in Luxembourg City13th May\, Wednesday  8.30Continue working on projectIteratively improve the workshop10.00Coffee break 10.20Finalize your projectGet ready for presenting to the high school students12.00LunchDiscover culinary choices in Belval13.00PresentationPresent the projects to students17.00FeedbackYour feedback is invaluable to us  								\n				\n					\n				\n		\n					\n		\n				\n				\n																														\n				\n				\n		\n				\n				\n					Phillip Dale				\n				\n				\n				\n									I have been communicating science and designing pedagogic experiences for nine years\, in the setting of workshops\, festivals\, school visits\, podcasts\, video shorts and cartoons. I am passionate about engaging the public to make them understand about the future of energy and how the world really works.								\n				\n				\n					\n				\n		\n					\n		\n				\n				\n																														\n				\n				\n		\n				\n				\n					Elisabeth John				\n				\n				\n				\n									I am passionate about exciting teenagers for natural sciences and show them career opportunities. Together with my team we welcome 4000 teenagers per year at the Scienteens Lab of the University of Luxembourg. 								\n				\n				\n					\n				\n		\n					\n		\n				\n				\n																														\n				\n				\n		\n				\n				\n					Louis Krieger				\n				\n				\n				\n									I have been doing Science Communication for 6 years\, participating in science festivals\, workshops\, science shows\, and visiting schools. I am a curious person that likes to share my passion of things I find while wandering through different sciences.								\n				\n				\n					\n				\n		\n					\n		\n				\n				\n																														\n				\n				\n		\n				\n				\n					Sebastien Elixander				\n				\n				\n				\n									As a member of the Scienteens Lab\, I bring experience from my time at the University of Luxembourg\, where I actively participated in various workshops and festivals. I am passionate about outreach\, as it allows me to engage the public with research. I love interacting with people and finding creative methods to entertain and educate on a wide range of topics.								\n				\n				\n					\n				\n		\n					\n		\n				\n				\n																														\n				\n				\n		\n				\n				\n					Lara Bertemes				\n				\n				\n				\n									I recently joined the Scienteens Lab as Sustainability Specialist. I am passionate about environmental sustainability and have worked with diverse stakeholders from students to policymakers\, all the way from local to international level. As a climate youth delegate\, I have been active in the UNFCCC processes and had the pleasure to participate at the COP30\, connecting youth with climate science and being live and active in international negotiations.								\n				\n				\n					\n				\n		\n					\n		\n				\n				\n																														\n				\n				\n		\n				\n				\n					Adriana Röttger				\n				\n				\n				\n									As a researcher\, I have gained experience in science communication and outreach by participating in different science festivals. As the newest member of this team\, I am eager to leave the lab for a while and bring my experience to the table. 								\n				\n				\n					\n				\n		\n					\n				\n				\n					Location				\n				\n				\n				\n									The Outreach for Everyone event will take place on the Belval campus of the University of Luxembourg.The address is : Université du Luxembourg30 Avenue des Hauts-Fourneaux4362 Esch-sur-AlzetteLuxembourg Map of the campus Travelling to the campus More general website about planning your travel around Luxembourg A word of warning…don’t take a taxi\, they are extremely expensive. 								\n				\n					\n				\n		\n					\n				\n				\n					Accommodation				\n				\n				\n				\n									ibis Esch Belval is frequently used by visitors of the university and is 15 minutes on foot from the workshop site. Address: 12 Avenue du Rock n Roll\,4361 Esch sur Alzette\,Luxembourg
URL:https://renewpv.eu/event/joint-wg2345-workshop-interfaces-in-emerging-chalcogenide-based-solar-cells/
LOCATION:Otetelesanu Manor\, Strada Cãlugãreni 5\, Mãgurele\, 077126\, Romania
ATTACH;FMTTYPE=image/webp:https://renewpv.eu/wp-content/uploads/2026/01/JointWS.webp
END:VEVENT
BEGIN:VEVENT
DTSTART;TZID=Europe/Paris:20260511T080000
DTEND;TZID=Europe/Paris:20260513T170000
DTSTAMP:20260424T142114
CREATED:20260304T103900Z
LAST-MODIFIED:20260324T114815Z
UID:3502-1778486400-1778691600@renewpv.eu
SUMMARY:Outreach training for Photovoltaic Scientists – 2nd Edition
DESCRIPTION:Following up on last year’s successful workshop (see video)\, we are adding another layer to our solar cell venture to make it even better; one might say we are going tandem! Have you ever wanted to share your research with the public but did not know how to get started? In this dynamic three-day workshop\, we will address how to go from an initial idea or opportunity\, through the development phase to the day of the outreach event itself. The aim of this workshop will be to guide participants through the iterative process of developing didactic material\, under the guidance of the Scienteens Lab\, while working in small teams. The developed material will be presented to the harshest of critics\, a class of high‑school students\, which will conclude the event. The target audience for the didactic material is teenagers and young adults (15-23 years old). This event will be hosted by the Physics and Sustainability Scienteens Lab and the E4L outreach teams of the University of Luxembourg on the 11th – 13th of May 2026. As this is a hands-on course\, in-person participation is mandatory. This event is funded by the ReNew-PV COST network and participation costs will be covered for 10 participants\, who need to be a member of the network. Application of self-funded participants is welcomed. The registration deadline is Monday 23rd of March 2026. The registration page can be found here. After the registration period has ended you will get invitation through the E-COST system\, and acceptance in E-Cost gives the right of participation. Register								\n				\n				\n				\n									Applications are closed. 								\n				\n				\n					\n				\n		\n					\n				\n				\n									AgendaTimeTopicDetails11th May  Monday  9.30Check-in 10.00Welcome address & coffee breakIntroduction by Susanne Siebentritt10.30Introducing the Scienteens Lab conceptPresentation by Dr. Louis Krieger about the Scienteens Lab hands-on approach and philosophy to science communication11.00Introduction SessionGet acquainted and pitch your workshop ideas12.00LunchDiscover culinary choices in Belval 13.00Choosing the project/ideas on paperForm your teams\, start brainstorming\, explore your ideas15.00Ice breaker – the WHAM GAP!Showcase of our new didactic model to foster creative ideas15.30Continue working on own projectFind / create your materials\, develop your ideas further17.00Welcome TourExplore the Science hub of Belval18.00Dinner Schmelz in Belval12th May\, Tuesday  8.30Warm-up workshopExperience one of our workshops09.30Background of workshopUnderstand the principles behind the way we design our workshops10.00Coffee break 10.20Continue working on own projectFind / create your materials\, develop your ideas further12.00LunchDiscover culinary choices in Belval13.00Continue working on own projectWork on your projects and finalize your materials15.00Guest speakerPresentation about outreach approach from an experienced active science communicator from Luxembourg15.45Coffee Break 16.00Continue working on own projectCarry out a first test run 18.00Luxembourg city tour 20.00DinnerUm Dierfgen in Luxembourg City13th May\, Wednesday  8.30Continue working on projectIteratively improve the workshop10.00Coffee break 10.20Finalize your projectGet ready for presenting to the high school students12.00LunchDiscover culinary choices in Belval13.00PresentationPresent the projects to students17.00FeedbackYour feedback is invaluable to us  								\n				\n					\n				\n		\n					\n		\n				\n				\n																														\n				\n				\n		\n				\n				\n					Phillip Dale				\n				\n				\n				\n									I have been communicating science and designing pedagogic experiences for nine years\, in the setting of workshops\, festivals\, school visits\, podcasts\, video shorts and cartoons. I am passionate about engaging the public to make them understand about the future of energy and how the world really works.								\n				\n				\n					\n				\n		\n					\n		\n				\n				\n																														\n				\n				\n		\n				\n				\n					Elisabeth John				\n				\n				\n				\n									I am passionate about exciting teenagers for natural sciences and show them career opportunities. Together with my team we welcome 4000 teenagers per year at the Scienteens Lab of the University of Luxembourg. 								\n				\n				\n					\n				\n		\n					\n		\n				\n				\n																														\n				\n				\n		\n				\n				\n					Louis Krieger				\n				\n				\n				\n									I have been doing Science Communication for 6 years\, participating in science festivals\, workshops\, science shows\, and visiting schools. I am a curious person that likes to share my passion of things I find while wandering through different sciences.								\n				\n				\n					\n				\n		\n					\n		\n				\n				\n																														\n				\n				\n		\n				\n				\n					Sebastien Elixander				\n				\n				\n				\n									As a member of the Scienteens Lab\, I bring experience from my time at the University of Luxembourg\, where I actively participated in various workshops and festivals. I am passionate about outreach\, as it allows me to engage the public with research. I love interacting with people and finding creative methods to entertain and educate on a wide range of topics.								\n				\n				\n					\n				\n		\n					\n		\n				\n				\n																														\n				\n				\n		\n				\n				\n					Lara Bertemes				\n				\n				\n				\n									I recently joined the Scienteens Lab as Sustainability Specialist. I am passionate about environmental sustainability and have worked with diverse stakeholders from students to policymakers\, all the way from local to international level. As a climate youth delegate\, I have been active in the UNFCCC processes and had the pleasure to participate at the COP30\, connecting youth with climate science and being live and active in international negotiations.								\n				\n				\n					\n				\n		\n					\n		\n				\n				\n																														\n				\n				\n		\n				\n				\n					Adriana Röttger				\n				\n				\n				\n									As a researcher\, I have gained experience in science communication and outreach by participating in different science festivals. As the newest member of this team\, I am eager to leave the lab for a while and bring my experience to the table. 								\n				\n				\n					\n				\n		\n					\n				\n				\n					Location				\n				\n				\n				\n									The Outreach for Everyone event will take place on the Belval campus of the University of Luxembourg.The address is : Université du Luxembourg30 Avenue des Hauts-Fourneaux4362 Esch-sur-AlzetteLuxembourg Map of the campus Travelling to the campus More general website about planning your travel around Luxembourg A word of warning…don’t take a taxi\, they are extremely expensive. 								\n				\n					\n				\n		\n					\n				\n				\n					Accommodation				\n				\n				\n				\n									ibis Esch Belval is frequently used by visitors of the university and is 15 minutes on foot from the workshop site. Address: 12 Avenue du Rock n Roll\,4361 Esch sur Alzette\,Luxembourg
URL:https://renewpv.eu/event/outreach-training-for-photovoltaic-scientists-2nd-edition/
LOCATION:Université du Luxembourg\, 30 Avenue des Hauts-Fourneaux 4362 Esch-sur-Alzette\, Luxembourg\, Luxembourg
ATTACH;FMTTYPE=image/webp:https://renewpv.eu/wp-content/uploads/2026/03/Advertisement-pic.webp
END:VEVENT
BEGIN:VEVENT
DTSTART;TZID=Europe/Paris:20260617T080000
DTEND;TZID=Europe/Paris:20260619T170000
DTSTAMP:20260424T142114
CREATED:20260303T120050Z
LAST-MODIFIED:20260309T085515Z
UID:3331-1781683200-1781888400@renewpv.eu
SUMMARY:4th ReNewPV + 16th European Kesterite Conference
DESCRIPTION:Following up on last year’s successful workshop (see video)\, we are adding another layer to our solar cell venture to make it even better; one might say we are going tandem! Have you ever wanted to share your research with the public but did not know how to get started? In this dynamic three-day workshop\, we will address how to go from an initial idea or opportunity\, through the development phase to the day of the outreach event itself. The aim of this workshop will be to guide participants through the iterative process of developing didactic material\, under the guidance of the Scienteens Lab\, while working in small teams. The developed material will be presented to the harshest of critics\, a class of high‑school students\, which will conclude the event. The target audience for the didactic material is teenagers and young adults (15-23 years old). This event will be hosted by the Physics and Sustainability Scienteens Lab and the E4L outreach teams of the University of Luxembourg on the 11th – 13th of May 2026. As this is a hands-on course\, in-person participation is mandatory. This event is funded by the ReNew-PV COST network and participation costs will be covered for 10 participants\, who need to be a member of the network. Application of self-funded participants is welcomed. The registration deadline is Monday 23rd of March 2026. The registration page can be found here. After the registration period has ended you will get invitation through the E-COST system\, and acceptance in E-Cost gives the right of participation. Register								\n				\n				\n				\n									Applications are closed. 								\n				\n				\n					\n				\n		\n					\n				\n				\n									AgendaTimeTopicDetails11th May  Monday  9.30Check-in 10.00Welcome address & coffee breakIntroduction by Susanne Siebentritt10.30Introducing the Scienteens Lab conceptPresentation by Dr. Louis Krieger about the Scienteens Lab hands-on approach and philosophy to science communication11.00Introduction SessionGet acquainted and pitch your workshop ideas12.00LunchDiscover culinary choices in Belval 13.00Choosing the project/ideas on paperForm your teams\, start brainstorming\, explore your ideas15.00Ice breaker – the WHAM GAP!Showcase of our new didactic model to foster creative ideas15.30Continue working on own projectFind / create your materials\, develop your ideas further17.00Welcome TourExplore the Science hub of Belval18.00Dinner Schmelz in Belval12th May\, Tuesday  8.30Warm-up workshopExperience one of our workshops09.30Background of workshopUnderstand the principles behind the way we design our workshops10.00Coffee break 10.20Continue working on own projectFind / create your materials\, develop your ideas further12.00LunchDiscover culinary choices in Belval13.00Continue working on own projectWork on your projects and finalize your materials15.00Guest speakerPresentation about outreach approach from an experienced active science communicator from Luxembourg15.45Coffee Break 16.00Continue working on own projectCarry out a first test run 18.00Luxembourg city tour 20.00DinnerUm Dierfgen in Luxembourg City13th May\, Wednesday  8.30Continue working on projectIteratively improve the workshop10.00Coffee break 10.20Finalize your projectGet ready for presenting to the high school students12.00LunchDiscover culinary choices in Belval13.00PresentationPresent the projects to students17.00FeedbackYour feedback is invaluable to us  								\n				\n					\n				\n		\n					\n		\n				\n				\n																														\n				\n				\n		\n				\n				\n					Phillip Dale				\n				\n				\n				\n									I have been communicating science and designing pedagogic experiences for nine years\, in the setting of workshops\, festivals\, school visits\, podcasts\, video shorts and cartoons. I am passionate about engaging the public to make them understand about the future of energy and how the world really works.								\n				\n				\n					\n				\n		\n					\n		\n				\n				\n																														\n				\n				\n		\n				\n				\n					Elisabeth John				\n				\n				\n				\n									I am passionate about exciting teenagers for natural sciences and show them career opportunities. Together with my team we welcome 4000 teenagers per year at the Scienteens Lab of the University of Luxembourg. 								\n				\n				\n					\n				\n		\n					\n		\n				\n				\n																														\n				\n				\n		\n				\n				\n					Louis Krieger				\n				\n				\n				\n									I have been doing Science Communication for 6 years\, participating in science festivals\, workshops\, science shows\, and visiting schools. I am a curious person that likes to share my passion of things I find while wandering through different sciences.								\n				\n				\n					\n				\n		\n					\n		\n				\n				\n																														\n				\n				\n		\n				\n				\n					Sebastien Elixander				\n				\n				\n				\n									As a member of the Scienteens Lab\, I bring experience from my time at the University of Luxembourg\, where I actively participated in various workshops and festivals. I am passionate about outreach\, as it allows me to engage the public with research. I love interacting with people and finding creative methods to entertain and educate on a wide range of topics.								\n				\n				\n					\n				\n		\n					\n		\n				\n				\n																														\n				\n				\n		\n				\n				\n					Lara Bertemes				\n				\n				\n				\n									I recently joined the Scienteens Lab as Sustainability Specialist. I am passionate about environmental sustainability and have worked with diverse stakeholders from students to policymakers\, all the way from local to international level. As a climate youth delegate\, I have been active in the UNFCCC processes and had the pleasure to participate at the COP30\, connecting youth with climate science and being live and active in international negotiations.								\n				\n				\n					\n				\n		\n					\n		\n				\n				\n																														\n				\n				\n		\n				\n				\n					Adriana Röttger				\n				\n				\n				\n									As a researcher\, I have gained experience in science communication and outreach by participating in different science festivals. As the newest member of this team\, I am eager to leave the lab for a while and bring my experience to the table. 								\n				\n				\n					\n				\n		\n					\n				\n				\n					Location				\n				\n				\n				\n									The Outreach for Everyone event will take place on the Belval campus of the University of Luxembourg.The address is : Université du Luxembourg30 Avenue des Hauts-Fourneaux4362 Esch-sur-AlzetteLuxembourg Map of the campus Travelling to the campus More general website about planning your travel around Luxembourg A word of warning…don’t take a taxi\, they are extremely expensive. 								\n				\n					\n				\n		\n					\n				\n				\n					Accommodation				\n				\n				\n				\n									ibis Esch Belval is frequently used by visitors of the university and is 15 minutes on foot from the workshop site. Address: 12 Avenue du Rock n Roll\,4361 Esch sur Alzette\,Luxembourg
URL:https://renewpv.eu/event/first-announcement-of-the-4th-renewpv-16th-european-kesterite-conference/
LOCATION:Tallinn\, Tallinn\, Estonia
ATTACH;FMTTYPE=image/webp:https://renewpv.eu/wp-content/uploads/2026/03/Event-image_17-19-June-2026_updated.webp
END:VEVENT
END:VCALENDAR